BEGIN:VCALENDAR
VERSION:2.0
PRODID:-//Hurraß - Optik Handelsvertretung - ECPv6.8.3//NONSGML v1.0//EN
CALSCALE:GREGORIAN
METHOD:PUBLISH
X-ORIGINAL-URL:https://hurrass.de
X-WR-CALDESC:Veranstaltungen für Hurraß - Optik Handelsvertretung
REFRESH-INTERVAL;VALUE=DURATION:PT1H
X-Robots-Tag:noindex
X-PUBLISHED-TTL:PT1H
BEGIN:VTIMEZONE
TZID:UTC
BEGIN:STANDARD
TZOFFSETFROM:+0000
TZOFFSETTO:+0000
TZNAME:UTC
DTSTART:20240101T000000
END:STANDARD
END:VTIMEZONE
BEGIN:VEVENT
DTSTART;TZID=UTC:20240315T083000
DTEND;TZID=UTC:20240315T173000
DTSTAMP:20260422T174248
CREATED:20231111T142447Z
LAST-MODIFIED:20231112T104726Z
UID:1462-1710491400-1710523800@hurrass.de
SUMMARY:Workshop 5 - "Kommunikation bei einer LowVision - Anpassung"
DESCRIPTION:Dieser Workshop vermittelt den entsprechenden Background\nfür eine gute Kommunikation einer erfolgreichen LowVision-\nAnpassung.\nDieser Workshop behandelt die administrativen Aufgaben wie\ndie Rechtsgrundlagen\, Hilfsmittelrichtlinien und andere Ver-\nwaltungsvorlagen. Ebenso ist die Kommunikation mit den Auge-\nnärzten ein wichtiges Thema sowie Kostenvoranschläge. Ein\nweiterer Baustein sind die Kontakte in den Netzwerken (Ärzte\,\nSelbsthilfegruppen\, Krankenkassen\, Mobilitätslehrer etc.). Wie\nbaut man ein funktionierendes LowVision-Netzwerk auf? Worauf\nmuss bei der externen Kommunikation geachtet werden?\nZielgruppenanalyse\, Kundenansprache durch Werbung und\nDirektkontakt runden den Workshop ab. \nDas erwartet Sie: \n\nFundiertes Hintergrundwissen zu aktuellen Gegebenheiten\nZielorientierte Abwicklungen\nReferenten-Tipps aufgrund langjähriger Erfahrungen\nAusbau der Kompetenz im Umgang mit Kunden\, Ärzten\,\nKrankenkassen etc.
URL:https://hurrass.de/event/kommunikation-bei-einer-lowvision-anpassung/
LOCATION:Mintrops Land Hotel Gmbh & Co. KG.\, Schwarzensteinweg 81\, Essen\, NRW\, 45289
ATTACH;FMTTYPE=image/jpeg:https://hurrass.de/wp-content/uploads/2023/11/logo_schweizer.jpg
END:VEVENT
BEGIN:VEVENT
DTSTART;TZID=UTC:20240312T090000
DTEND;TZID=UTC:20240312T173000
DTSTAMP:20260422T174248
CREATED:20231111T142329Z
LAST-MODIFIED:20231112T104743Z
UID:1460-1710234000-1710264600@hurrass.de
SUMMARY:Workshop 2 - "Einfache und zweckmäßige Hilfsmittel"
DESCRIPTION:Einfache und zweckmäßige Hilfsmittel\, die dem Kundenwunsch\nnach besserem Sehen nachkommen\, sind Themen dieses Work-\nshops. Der Augenoptiker ist zunächst gefordert\, die Möglichkeiten\nder Kontraststeigerung durch richtige Beleuchtung zu nutzen.\nReichen diese nicht aus\, um den Sehbehinderten zu rehabilitieren\,\nwerden optische und elektronische Versorgungsmöglichkeiten\nin Betracht gezogen. Es wird die Anpassung einfacher\, aber\nzweckmäßiger Hilfsmittel gezeigt\, die sowohl zur Erhaltung der\nMobilität als auch der Lesefähigkeit beitragen. Des Weiteren\nwerden hier auch Lösungsmöglichkeiten aus den Bereichen der\n„erhöhten Additionen“ sowie Sondergläser aufgezeigt. \nDas erwartet Sie: \n\nErarbeitung und Erweiterung einer Grundwissensbasis für die\nerfolgreiche Versorgung sehbeeinträchtigter Menschen\nAnpassung einfacher\, aber zweckmäßiger Hilfsmittel\nAusbau von Kompetenz im Zukunftsmarkt LowVision\nSchaffung zufriedener Kundengruppen und Umsatzsteigerung
URL:https://hurrass.de/event/einfache-und-zweckmaessige-hilfsmittel/
LOCATION:Mintrops Land Hotel Gmbh & Co. KG.\, Schwarzensteinweg 81\, Essen\, NRW\, 45289
ATTACH;FMTTYPE=image/jpeg:https://hurrass.de/wp-content/uploads/2023/11/logo_schweizer.jpg
END:VEVENT
BEGIN:VEVENT
DTSTART;TZID=UTC:20240311T090000
DTEND;TZID=UTC:20240311T173000
DTSTAMP:20260422T174248
CREATED:20231111T141838Z
LAST-MODIFIED:20231112T104757Z
UID:1454-1710147600-1710178200@hurrass.de
SUMMARY:Workshop 1 - "Starter-Workshop"
DESCRIPTION:Die Schwerpunkte dieses Starter-Workshops liegen in den\nmedizinischen Hintergründen\, die zu einer Sehbehinderung\nführen können\, den Grundlagen der Refraktion auf verkürzter\nEntfernung sowie der Funktionsweise und Anpassung besonderer\nFilter einschließlich Kantenfiltern. \nDas erwartet Sie: \n\nErarbeitung der 5 Grundelemente für eine LowVision-\nAnpassung und der rehabilitierenden Versorgung sehbeein-\nträchtigter Menschen\nMedizinische Grundlagen für eine LowVision-Versorgung\nUmfassender Einblick in die Thematik der Kantenfilter und\nComfortfilter.
URL:https://hurrass.de/event/starter-workshop/
LOCATION:Mintrops Land Hotel Gmbh & Co. KG.\, Schwarzensteinweg 81\, Essen\, NRW\, 45289
ATTACH;FMTTYPE=image/jpeg:https://hurrass.de/wp-content/uploads/2023/11/logo_schweizer.jpg
END:VEVENT
BEGIN:VEVENT
DTSTART;VALUE=DATE:20240112
DTEND;VALUE=DATE:20240115
DTSTAMP:20260422T174248
CREATED:20231111T140234Z
LAST-MODIFIED:20231111T140234Z
UID:1447-1705017600-1705276799@hurrass.de
SUMMARY:OPTI 2024
DESCRIPTION:Von 12. bis 14. Januar 2024 trifft sich die augenoptische Branche auf dem Messegelände München\, um sich über die Neuigkeiten und Trends zu informieren.\n\n\nSCHWEIZER ist wie 2023 wieder dabei und präsentiert in Halle C4\, Stand 555\, das innovative und umfangreichste LowVision-Produktsortiment den Besucherinnen und Besuchern.
URL:https://hurrass.de/event/opti-2024/
LOCATION:Messegelände München\, Am Messesee 2\, München\, Bayern\, 81829
ATTACH;FMTTYPE=image/png:https://hurrass.de/wp-content/uploads/2023/11/opti2024.png
END:VEVENT
END:VCALENDAR